Package: alabaster.matrix Version: 1.9.0 Command: /home/rapidbuild/bbs-3.22-bioc-rapid/R/bin/R CMD check --install=check:alabaster.matrix.install-out.txt --library=/home/rapidbuild/bbs-3.22-bioc-rapid/R/site-library --timings alabaster.matrix_1.9.0.tar.gz StartedAt: 2025-06-17 19:50:21 -0400 (Tue, 17 Jun 2025) EndedAt: 2025-06-17 19:53:26 -0400 (Tue, 17 Jun 2025) EllapsedTime: 185.1 seconds RetCode: 0 Status: OK CheckDir: alabaster.matrix.Rcheck Warnings: 0