Package: alabaster.sce Version: 1.9.0 Command: /home/rapidbuild/bbs-3.22-bioc-rapid/R/bin/R CMD INSTALL alabaster.sce StartedAt: 2025-06-17 18:20:18 -0400 (Tue, 17 Jun 2025) EndedAt: 2025-06-17 18:20:43 -0400 (Tue, 17 Jun 2025) EllapsedTime: 24.6 seconds RetCode: 0 Status: OK