Package: alabaster.schemas Version: 1.9.0 Command: /home/rapidbuild/bbs-3.22-bioc-rapid/R/bin/R CMD INSTALL alabaster.schemas StartedAt: 2025-06-17 18:04:43 -0400 (Tue, 17 Jun 2025) EndedAt: 2025-06-17 18:04:44 -0400 (Tue, 17 Jun 2025) EllapsedTime: 1.0 seconds RetCode: 0 Status: OK