Package: alabaster.se Version: 1.9.0 Command: /home/rapidbuild/bbs-3.22-bioc-rapid/R/bin/R CMD build --keep-empty-dirs --no-resave-data alabaster.se StartedAt: 2025-06-17 18:32:20 -0400 (Tue, 17 Jun 2025) EndedAt: 2025-06-17 18:32:55 -0400 (Tue, 17 Jun 2025) EllapsedTime: 34.9 seconds RetCode: 0 Status: OK PackageFile: alabaster.se_1.9.0.tar.gz PackageFileSize: 225.2 KiB