Package: alabaster.se Version: 1.9.0 Command: /home/rapidbuild/bbs-3.22-bioc-rapid/R/bin/R CMD INSTALL alabaster.se StartedAt: 2025-06-17 18:19:10 -0400 (Tue, 17 Jun 2025) EndedAt: 2025-06-17 18:19:33 -0400 (Tue, 17 Jun 2025) EllapsedTime: 23.6 seconds RetCode: 0 Status: OK