Package: apeglm Version: 1.31.0 Command: /home/rapidbuild/bbs-3.22-bioc-rapid/R/bin/R CMD build --keep-empty-dirs --no-resave-data apeglm StartedAt: 2025-06-17 18:33:37 -0400 (Tue, 17 Jun 2025) EndedAt: 2025-06-17 18:35:00 -0400 (Tue, 17 Jun 2025) EllapsedTime: 82.9 seconds RetCode: 0 Status: OK PackageFile: apeglm_1.31.0.tar.gz PackageFileSize: 1.203 MiB