Package: aroma.light Version: 3.39.0 Command: /home/rapidbuild/bbs-3.22-bioc-rapid/R/bin/R CMD INSTALL aroma.light StartedAt: 2025-06-17 18:10:18 -0400 (Tue, 17 Jun 2025) EndedAt: 2025-06-17 18:10:22 -0400 (Tue, 17 Jun 2025) EllapsedTime: 3.5 seconds RetCode: 0 Status: OK