Package: assorthead Version: 1.3.4 Command: /home/rapidbuild/bbs-3.22-bioc-rapid/R/bin/R CMD build --keep-empty-dirs --no-resave-data assorthead StartedAt: 2025-06-17 18:34:16 -0400 (Tue, 17 Jun 2025) EndedAt: 2025-06-17 18:34:22 -0400 (Tue, 17 Jun 2025) EllapsedTime: 6.0 seconds RetCode: 0 Status: OK PackageFile: assorthead_1.3.4.tar.gz PackageFileSize: 1.763 MiB