Package: bamsignals Version: 1.41.1 Maintainer: Johannes Helmuth MaintainerEmail: johannes.helmuth at laborberlin.com git_url: https://git.bioconductor.org/packages/bamsignals git_branch: devel git_last_commit: 3d185b4 git_last_commit_date: 2025-06-13 12:23:42 -0400 (Fri, 13 Jun 2025)