Package: bamsignals Version: 1.41.1 Command: /home/rapidbuild/bbs-3.22-bioc-rapid/R/bin/R CMD build --keep-empty-dirs --no-resave-data bamsignals StartedAt: 2025-06-17 18:34:22 -0400 (Tue, 17 Jun 2025) EndedAt: 2025-06-17 18:34:48 -0400 (Tue, 17 Jun 2025) EllapsedTime: 26.3 seconds RetCode: 0 Status: OK PackageFile: bamsignals_1.41.1.tar.gz PackageFileSize: 3.338 MiB