Package: bamsignals Version: 1.41.1 Command: /home/rapidbuild/bbs-3.22-bioc-rapid/R/bin/R CMD INSTALL bamsignals StartedAt: 2025-06-17 18:21:15 -0400 (Tue, 17 Jun 2025) EndedAt: 2025-06-17 18:21:33 -0400 (Tue, 17 Jun 2025) EllapsedTime: 17.2 seconds RetCode: 0 Status: OK