Package: batchelor Version: 1.25.0 Command: /home/rapidbuild/bbs-3.22-bioc-rapid/R/bin/R CMD build --keep-empty-dirs --no-resave-data batchelor StartedAt: 2025-06-17 18:34:53 -0400 (Tue, 17 Jun 2025) EndedAt: 2025-06-17 18:37:43 -0400 (Tue, 17 Jun 2025) EllapsedTime: 169.7 seconds RetCode: 0 Status: OK PackageFile: batchelor_1.25.0.tar.gz PackageFileSize: 1.969 MiB