Package: batchelor Version: 1.25.0 Command: /home/rapidbuild/bbs-3.22-bioc-rapid/R/bin/R CMD INSTALL batchelor StartedAt: 2025-06-17 18:23:02 -0400 (Tue, 17 Jun 2025) EndedAt: 2025-06-17 18:23:51 -0400 (Tue, 17 Jun 2025) EllapsedTime: 48.9 seconds RetCode: 0 Status: OK