Package: beachmat.hdf5 Version: 1.7.0 Maintainer: Aaron Lun MaintainerEmail: infinite.monkeys.with.keyboards at gmail.com git_url: https://git.bioconductor.org/packages/beachmat.hdf5 git_branch: devel git_last_commit: a0b7ff1 git_last_commit_date: 2025-04-30 17:26:26 -0400 (Wed, 30 Apr 2025)