Package: beachmat.hdf5 Version: 1.7.0 Command: /home/rapidbuild/bbs-3.22-bioc-rapid/R/bin/R CMD build --keep-empty-dirs --no-resave-data beachmat.hdf5 StartedAt: 2025-06-17 18:35:12 -0400 (Tue, 17 Jun 2025) EndedAt: 2025-06-17 18:36:15 -0400 (Tue, 17 Jun 2025) EllapsedTime: 63.3 seconds RetCode: 0 Status: OK PackageFile: beachmat.hdf5_1.7.0.tar.gz PackageFileSize: 297.3 KiB