Package: beachmat.hdf5 Version: 1.7.0 Command: /home/rapidbuild/bbs-3.22-bioc-rapid/R/bin/R CMD INSTALL beachmat.hdf5 StartedAt: 2025-06-17 18:20:37 -0400 (Tue, 17 Jun 2025) EndedAt: 2025-06-17 18:21:32 -0400 (Tue, 17 Jun 2025) EllapsedTime: 55.5 seconds RetCode: 0 Status: OK