Package: beachmat Version: 2.25.1 Command: /home/rapidbuild/bbs-3.22-bioc-rapid/R/bin/R CMD INSTALL beachmat StartedAt: 2025-06-17 18:14:56 -0400 (Tue, 17 Jun 2025) EndedAt: 2025-06-17 18:19:11 -0400 (Tue, 17 Jun 2025) EllapsedTime: 254.9 seconds RetCode: 0 Status: OK