Package: biocViews Version: 1.77.2 Command: /home/rapidbuild/bbs-3.22-bioc-rapid/R/bin/R CMD build --keep-empty-dirs --no-resave-data biocViews StartedAt: 2025-06-17 18:38:22 -0400 (Tue, 17 Jun 2025) EndedAt: 2025-06-17 18:38:35 -0400 (Tue, 17 Jun 2025) EllapsedTime: 12.6 seconds RetCode: 0 Status: OK PackageFile: biocViews_1.77.2.tar.gz PackageFileSize: 510 KiB