Package: biocViews Version: 1.77.2 Command: /home/rapidbuild/bbs-3.22-bioc-rapid/R/bin/R CMD INSTALL biocViews StartedAt: 2025-06-17 18:13:11 -0400 (Tue, 17 Jun 2025) EndedAt: 2025-06-17 18:13:18 -0400 (Tue, 17 Jun 2025) EllapsedTime: 6.2 seconds RetCode: 0 Status: OK