Package: biocmake Version: 1.1.3 Command: /home/rapidbuild/bbs-3.22-bioc-rapid/R/bin/R CMD INSTALL biocmake StartedAt: 2025-06-17 18:06:15 -0400 (Tue, 17 Jun 2025) EndedAt: 2025-06-17 18:06:17 -0400 (Tue, 17 Jun 2025) EllapsedTime: 2.0 seconds RetCode: 0 Status: OK