Package: biomaRt Version: 2.65.0 Command: /home/rapidbuild/bbs-3.22-bioc-rapid/R/bin/R CMD build --keep-empty-dirs --no-resave-data biomaRt StartedAt: 2025-06-17 18:38:28 -0400 (Tue, 17 Jun 2025) EndedAt: 2025-06-17 18:39:27 -0400 (Tue, 17 Jun 2025) EllapsedTime: 59.7 seconds RetCode: 0 Status: OK PackageFile: biomaRt_2.65.0.tar.gz PackageFileSize: 842.3 KiB