Package: biovizBase Version: 1.57.0 Command: /home/rapidbuild/bbs-3.22-bioc-rapid/R/bin/R CMD build --keep-empty-dirs --no-resave-data biovizBase StartedAt: 2025-06-17 18:38:39 -0400 (Tue, 17 Jun 2025) EndedAt: 2025-06-17 18:39:43 -0400 (Tue, 17 Jun 2025) EllapsedTime: 63.1 seconds RetCode: 0 Status: OK PackageFile: biovizBase_1.57.0.tar.gz PackageFileSize: 2.397 MiB