Package: biovizBase Version: 1.57.0 Command: /home/rapidbuild/bbs-3.22-bioc-rapid/R/bin/R CMD INSTALL biovizBase StartedAt: 2025-06-17 18:28:45 -0400 (Tue, 17 Jun 2025) EndedAt: 2025-06-17 18:29:27 -0400 (Tue, 17 Jun 2025) EllapsedTime: 42.8 seconds RetCode: 0 Status: OK