Package: chihaya Version: 1.9.0 Maintainer: Aaron Lun MaintainerEmail: infinite.monkeys.with.keyboards at gmail.com git_url: https://git.bioconductor.org/packages/chihaya git_branch: devel git_last_commit: cf0c4f5 git_last_commit_date: 2025-04-15 13:10:45 -0400 (Tue, 15 Apr 2025)