Package: chihaya Version: 1.9.0 Command: /home/rapidbuild/bbs-3.22-bioc-rapid/R/bin/R CMD INSTALL chihaya StartedAt: 2025-06-17 18:15:23 -0400 (Tue, 17 Jun 2025) EndedAt: 2025-06-17 18:15:53 -0400 (Tue, 17 Jun 2025) EllapsedTime: 30.1 seconds RetCode: 0 Status: OK