Package: clusterProfiler Version: 4.17.0 Command: /home/rapidbuild/bbs-3.22-bioc-rapid/R/bin/R CMD check --install=check:clusterProfiler.install-out.txt --library=/home/rapidbuild/bbs-3.22-bioc-rapid/R/site-library --timings clusterProfiler_4.17.0.tar.gz StartedAt: 2025-06-17 20:14:02 -0400 (Tue, 17 Jun 2025) EndedAt: 2025-06-17 20:16:58 -0400 (Tue, 17 Jun 2025) EllapsedTime: 176.5 seconds RetCode: 0 Status: OK CheckDir: clusterProfiler.Rcheck Warnings: 0