Package: csaw Version: 1.43.0 Command: /home/rapidbuild/bbs-3.22-bioc-rapid/R/bin/R CMD check --install=check:csaw.install-out.txt --library=/home/rapidbuild/bbs-3.22-bioc-rapid/R/site-library --timings csaw_1.43.0.tar.gz StartedAt: 2025-06-17 20:16:03 -0400 (Tue, 17 Jun 2025) EndedAt: 2025-06-17 20:22:36 -0400 (Tue, 17 Jun 2025) EllapsedTime: 392.9 seconds RetCode: 0 Status: OK CheckDir: csaw.Rcheck Warnings: 0