Package: cytolib Version: 2.21.0 Command: /home/rapidbuild/bbs-3.22-bioc-rapid/R/bin/R CMD check --install=check:cytolib.install-out.txt --library=/home/rapidbuild/bbs-3.22-bioc-rapid/R/site-library --timings cytolib_2.21.0.tar.gz StartedAt: 2025-06-17 20:16:15 -0400 (Tue, 17 Jun 2025) EndedAt: 2025-06-17 20:16:34 -0400 (Tue, 17 Jun 2025) EllapsedTime: 18.3 seconds RetCode: 0 Status: WARNINGS CheckDir: cytolib.Rcheck Warnings: 2