Package: cytolib Version: 2.21.0 Command: /home/rapidbuild/bbs-3.22-bioc-rapid/R/bin/R CMD INSTALL cytolib StartedAt: 2025-06-17 18:08:44 -0400 (Tue, 17 Jun 2025) EndedAt: 2025-06-17 18:11:00 -0400 (Tue, 17 Jun 2025) EllapsedTime: 135.5 seconds RetCode: 0 Status: OK