Package: densvis Version: 1.19.0 Command: /home/rapidbuild/bbs-3.22-bioc-rapid/R/bin/R CMD INSTALL densvis StartedAt: 2025-06-17 18:14:42 -0400 (Tue, 17 Jun 2025) EndedAt: 2025-06-17 18:14:59 -0400 (Tue, 17 Jun 2025) EllapsedTime: 16.7 seconds RetCode: 0 Status: OK