Package: dir.expiry Version: 1.17.0 Command: /home/rapidbuild/bbs-3.22-bioc-rapid/R/bin/R CMD build --keep-empty-dirs --no-resave-data dir.expiry StartedAt: 2025-06-17 18:45:44 -0400 (Tue, 17 Jun 2025) EndedAt: 2025-06-17 18:45:51 -0400 (Tue, 17 Jun 2025) EllapsedTime: 7.0 seconds RetCode: 0 Status: OK PackageFile: dir.expiry_1.17.0.tar.gz PackageFileSize: 301.2 KiB