Package: dir.expiry Version: 1.17.0 Command: /home/rapidbuild/bbs-3.22-bioc-rapid/R/bin/R CMD INSTALL dir.expiry StartedAt: 2025-06-17 18:05:54 -0400 (Tue, 17 Jun 2025) EndedAt: 2025-06-17 18:05:56 -0400 (Tue, 17 Jun 2025) EllapsedTime: 2.3 seconds RetCode: 0 Status: OK