Package: edgeR Version: 4.7.2 Command: /home/rapidbuild/bbs-3.22-bioc-rapid/R/bin/R CMD build --keep-empty-dirs --no-resave-data edgeR StartedAt: 2025-06-17 18:47:13 -0400 (Tue, 17 Jun 2025) EndedAt: 2025-06-17 18:47:29 -0400 (Tue, 17 Jun 2025) EllapsedTime: 16.0 seconds RetCode: 0 Status: OK PackageFile: edgeR_4.7.2.tar.gz PackageFileSize: 3.455 MiB