Package: eds Version: 1.11.0 Maintainer: Avi Srivastava MaintainerEmail: asrivastava at cs.stonybrook.edu git_url: https://git.bioconductor.org/packages/eds git_branch: devel git_last_commit: e1f3039 git_last_commit_date: 2025-04-15 12:53:52 -0400 (Tue, 15 Apr 2025)