Package: eds Version: 1.11.0 Command: /home/rapidbuild/bbs-3.22-bioc-rapid/R/bin/R CMD build --keep-empty-dirs --no-resave-data eds StartedAt: 2025-06-17 18:47:30 -0400 (Tue, 17 Jun 2025) EndedAt: 2025-06-17 18:47:41 -0400 (Tue, 17 Jun 2025) EllapsedTime: 11.0 seconds RetCode: 0 Status: OK PackageFile: eds_1.11.0.tar.gz PackageFileSize: 217.3 KiB