Package: enrichplot Version: 1.29.1 Command: /home/rapidbuild/bbs-3.22-bioc-rapid/R/bin/R CMD check --install=check:enrichplot.install-out.txt --library=/home/rapidbuild/bbs-3.22-bioc-rapid/R/site-library --timings enrichplot_1.29.1.tar.gz StartedAt: 2025-06-17 20:31:46 -0400 (Tue, 17 Jun 2025) EndedAt: 2025-06-17 20:34:14 -0400 (Tue, 17 Jun 2025) EllapsedTime: 148.7 seconds RetCode: 0 Status: OK CheckDir: enrichplot.Rcheck Warnings: 0