Package: enrichplot Version: 1.29.1 Command: /home/rapidbuild/bbs-3.22-bioc-rapid/R/bin/R CMD INSTALL enrichplot StartedAt: 2025-06-17 18:28:19 -0400 (Tue, 17 Jun 2025) EndedAt: 2025-06-17 18:28:39 -0400 (Tue, 17 Jun 2025) EllapsedTime: 19.6 seconds RetCode: 0 Status: OK