Package: fgsea Version: 1.35.2 Maintainer: Alexey Sergushichev MaintainerEmail: alsergbox at gmail.com git_url: https://git.bioconductor.org/packages/fgsea git_branch: devel git_last_commit: f6ed063 git_last_commit_date: 2025-06-03 16:58:33 -0400 (Tue, 03 Jun 2025)