Package: fgsea Version: 1.35.2 Command: /home/rapidbuild/bbs-3.22-bioc-rapid/R/bin/R CMD build --keep-empty-dirs --no-resave-data fgsea StartedAt: 2025-06-17 18:50:15 -0400 (Tue, 17 Jun 2025) EndedAt: 2025-06-17 18:56:00 -0400 (Tue, 17 Jun 2025) EllapsedTime: 345.1 seconds RetCode: 0 Status: OK PackageFile: fgsea_1.35.2.tar.gz PackageFileSize: 4.72 MiB