Package: fgsea Version: 1.35.2 Command: /home/rapidbuild/bbs-3.22-bioc-rapid/R/bin/R CMD INSTALL fgsea StartedAt: 2025-06-17 18:16:07 -0400 (Tue, 17 Jun 2025) EndedAt: 2025-06-17 18:16:43 -0400 (Tue, 17 Jun 2025) EllapsedTime: 35.9 seconds RetCode: 0 Status: OK