Package: fishpond Version: 2.15.0 Command: /home/rapidbuild/bbs-3.22-bioc-rapid/R/bin/R CMD INSTALL fishpond StartedAt: 2025-06-17 18:29:02 -0400 (Tue, 17 Jun 2025) EndedAt: 2025-06-17 18:29:27 -0400 (Tue, 17 Jun 2025) EllapsedTime: 24.2 seconds RetCode: 0 Status: OK