Package: flowCore Version: 2.21.0 Command: /home/rapidbuild/bbs-3.22-bioc-rapid/R/bin/R CMD check --install=check:flowCore.install-out.txt --library=/home/rapidbuild/bbs-3.22-bioc-rapid/R/site-library --timings flowCore_2.21.0.tar.gz StartedAt: 2025-06-17 20:38:55 -0400 (Tue, 17 Jun 2025) EndedAt: 2025-06-17 20:41:23 -0400 (Tue, 17 Jun 2025) EllapsedTime: 148.4 seconds RetCode: 0 Status: WARNINGS CheckDir: flowCore.Rcheck Warnings: 3