Package: flowViz Version: 1.73.0 Command: /home/rapidbuild/bbs-3.22-bioc-rapid/R/bin/R CMD build --keep-empty-dirs --no-resave-data flowViz StartedAt: 2025-06-17 18:55:44 -0400 (Tue, 17 Jun 2025) EndedAt: 2025-06-17 18:56:44 -0400 (Tue, 17 Jun 2025) EllapsedTime: 60.3 seconds RetCode: 0 Status: OK PackageFile: flowViz_1.73.0.tar.gz PackageFileSize: 989.7 KiB