Package: flowViz Version: 1.73.0 Command: /home/rapidbuild/bbs-3.22-bioc-rapid/R/bin/R CMD INSTALL flowViz StartedAt: 2025-06-17 18:12:56 -0400 (Tue, 17 Jun 2025) EndedAt: 2025-06-17 18:13:04 -0400 (Tue, 17 Jun 2025) EllapsedTime: 8.2 seconds RetCode: 0 Status: OK