Package: gage Version: 2.59.0 Command: /home/rapidbuild/bbs-3.22-bioc-rapid/R/bin/R CMD build --keep-empty-dirs --no-resave-data gage StartedAt: 2025-06-17 18:56:11 -0400 (Tue, 17 Jun 2025) EndedAt: 2025-06-17 18:58:20 -0400 (Tue, 17 Jun 2025) EllapsedTime: 129.6 seconds RetCode: 0 Status: OK PackageFile: gage_2.59.0.tar.gz PackageFileSize: 4.331 MiB