Package: gcrma Version: 2.81.0 Command: /home/rapidbuild/bbs-3.22-bioc-rapid/R/bin/R CMD build --keep-empty-dirs --no-resave-data gcrma StartedAt: 2025-06-17 18:56:42 -0400 (Tue, 17 Jun 2025) EndedAt: 2025-06-17 18:56:57 -0400 (Tue, 17 Jun 2025) EllapsedTime: 15.3 seconds RetCode: 0 Status: OK PackageFile: gcrma_2.81.0.tar.gz PackageFileSize: 288.6 KiB