Package: gcrma Version: 2.81.0 Command: /home/rapidbuild/bbs-3.22-bioc-rapid/R/bin/R CMD INSTALL gcrma StartedAt: 2025-06-17 18:28:35 -0400 (Tue, 17 Jun 2025) EndedAt: 2025-06-17 18:28:45 -0400 (Tue, 17 Jun 2025) EllapsedTime: 9.6 seconds RetCode: 0 Status: OK