Package: geneplotter Version: 1.87.0 Command: /home/rapidbuild/bbs-3.22-bioc-rapid/R/bin/R CMD build --keep-empty-dirs --no-resave-data geneplotter StartedAt: 2025-06-17 18:57:45 -0400 (Tue, 17 Jun 2025) EndedAt: 2025-06-17 18:58:10 -0400 (Tue, 17 Jun 2025) EllapsedTime: 25.0 seconds RetCode: 0 Status: OK PackageFile: geneplotter_1.87.0.tar.gz PackageFileSize: 1.636 MiB