Package: geneplotter Version: 1.87.0 Command: /home/rapidbuild/bbs-3.22-bioc-rapid/R/bin/R CMD INSTALL geneplotter StartedAt: 2025-06-17 18:22:25 -0400 (Tue, 17 Jun 2025) EndedAt: 2025-06-17 18:22:36 -0400 (Tue, 17 Jun 2025) EllapsedTime: 11.4 seconds RetCode: 0 Status: OK