Package: ggbio Version: 1.57.0 Maintainer: Michael Lawrence MaintainerEmail: michafla at gene.com git_url: https://git.bioconductor.org/packages/ggbio git_branch: devel git_last_commit: ab46b83 git_last_commit_date: 2025-04-15 10:11:14 -0400 (Tue, 15 Apr 2025)